Package: Site2Target Version: 1.2.0 Command: /home/biocbuild/bbs-3.22-bioc/R/bin/R CMD INSTALL Site2Target StartedAt: 2025-11-11 15:20:31 -0500 (Tue, 11 Nov 2025) EndedAt: 2025-11-11 15:20:33 -0500 (Tue, 11 Nov 2025) EllapsedTime: 2.1 seconds RetCode: 0 Status: OK