Package: SingleR Version: 2.12.0 Command: /home/biocbuild/bbs-3.22-bioc/R/bin/R CMD INSTALL SingleR StartedAt: 2025-11-06 15:18:46 -0500 (Thu, 06 Nov 2025) EndedAt: 2025-11-06 15:19:52 -0500 (Thu, 06 Nov 2025) EllapsedTime: 65.9 seconds RetCode: 0 Status: OK