Package: SingleR Version: 2.12.0 Command: /home/biocbuild/bbs-3.22-bioc/R/bin/R CMD build --keep-empty-dirs --no-resave-data --md5 SingleR StartedAt: 2025-11-06 20:07:55 -0500 (Thu, 06 Nov 2025) EndedAt: 2025-11-06 20:09:44 -0500 (Thu, 06 Nov 2025) EllapsedTime: 109.1 seconds RetCode: 0 Status: OK PackageFile: SingleR_2.12.0.tar.gz PackageFileSize: 677.5 KiB