Package: SingleMoleculeFootprinting Version: 2.4.0 Command: /home/biocbuild/bbs-3.22-bioc/R/bin/R CMD INSTALL SingleMoleculeFootprinting StartedAt: 2025-11-11 16:02:39 -0500 (Tue, 11 Nov 2025) EndedAt: 2025-11-11 16:03:33 -0500 (Tue, 11 Nov 2025) EllapsedTime: 53.5 seconds RetCode: 0 Status: OK