Package: SingleMoleculeFootprinting Version: 2.4.0 Command: /home/biocbuild/bbs-3.22-bioc/R/bin/R CMD build --keep-empty-dirs --no-resave-data --md5 SingleMoleculeFootprinting StartedAt: 2025-11-11 20:16:30 -0500 (Tue, 11 Nov 2025) EndedAt: 2025-11-11 20:19:29 -0500 (Tue, 11 Nov 2025) EllapsedTime: 179.1 seconds RetCode: 0 Status: OK PackageFile: SingleMoleculeFootprinting_2.4.0.tar.gz PackageFileSize: 3.91 MiB