Package: SingleMoleculeFootprinting Version: 2.4.0 Command: /Library/Frameworks/R.framework/Resources/bin/R CMD INSTALL SingleMoleculeFootprinting StartedAt: 2025-11-10 15:30:33 -0500 (Mon, 10 Nov 2025) EndedAt: 2025-11-10 15:30:53 -0500 (Mon, 10 Nov 2025) EllapsedTime: 20.6 seconds RetCode: 0 Status: OK