Package: SingleMoleculeFootprinting Version: 2.4.0 Command: /Library/Frameworks/R.framework/Resources/bin/R CMD build --keep-empty-dirs --no-resave-data SingleMoleculeFootprinting StartedAt: 2025-11-10 17:47:20 -0500 (Mon, 10 Nov 2025) EndedAt: 2025-11-10 17:48:36 -0500 (Mon, 10 Nov 2025) EllapsedTime: 75.9 seconds RetCode: 0 Status: OK PackageFile: SingleMoleculeFootprinting_2.4.0.tar.gz PackageFileSize: 4.187 MiB