Package: SingleMoleculeFootprinting Version: 2.4.0 Command: rm -rf SingleMoleculeFootprinting.buildbin-libdir && mkdir SingleMoleculeFootprinting.buildbin-libdir && /Users/biocbuild/BBS/utils/build-universal.sh SingleMoleculeFootprinting_2.4.0.tar.gz /Library/Frameworks/R.framework/Resources/bin/R SingleMoleculeFootprinting.buildbin-libdir StartedAt: 2025-11-10 23:37:15 -0500 (Mon, 10 Nov 2025) EndedAt: 2025-11-10 23:37:38 -0500 (Mon, 10 Nov 2025) EllapsedTime: 22.5 seconds RetCode: 0 Status: OK PackageFile: SingleMoleculeFootprinting_2.4.0.tgz PackageFileSize: 4.391 MiB