Package: SingleCellSignalR Version: 2.0.1 Command: /home/biocbuild/R/R/bin/R CMD INSTALL SingleCellSignalR StartedAt: 2025-11-10 22:11:22 -0000 (Mon, 10 Nov 2025) EndedAt: 2025-11-10 22:12:30 -0000 (Mon, 10 Nov 2025) EllapsedTime: 67.9 seconds RetCode: 0 Status: OK