Package: SingleCellSignalR Version: 2.0.1 Command: /home/biocbuild/R/R/bin/R CMD build --keep-empty-dirs --no-resave-data SingleCellSignalR StartedAt: 2025-11-11 05:14:54 -0000 (Tue, 11 Nov 2025) EndedAt: 2025-11-11 05:16:37 -0000 (Tue, 11 Nov 2025) EllapsedTime: 103.0 seconds RetCode: 0 Status: OK PackageFile: SingleCellSignalR_2.0.1.tar.gz PackageFileSize: 174.7 KiB