Package: SingleCellSignalR Version: 2.0.1 Command: /home/biocbuild/bbs-3.22-bioc/R/bin/R CMD INSTALL SingleCellSignalR StartedAt: 2025-11-13 16:02:15 -0500 (Thu, 13 Nov 2025) EndedAt: 2025-11-13 16:03:06 -0500 (Thu, 13 Nov 2025) EllapsedTime: 50.6 seconds RetCode: 0 Status: OK