Package: SingleCellSignalR Version: 2.0.1 Command: /home/biocbuild/bbs-3.22-bioc/R/bin/R CMD build --keep-empty-dirs --no-resave-data --md5 SingleCellSignalR StartedAt: 2025-11-13 20:14:53 -0500 (Thu, 13 Nov 2025) EndedAt: 2025-11-13 20:16:01 -0500 (Thu, 13 Nov 2025) EllapsedTime: 68.1 seconds RetCode: 0 Status: OK PackageFile: SingleCellSignalR_2.0.1.tar.gz PackageFileSize: 175.2 KiB