Package: SingleCellSignalR Version: 1.20.0 Command: /Library/Frameworks/R.framework/Resources/bin/R CMD build --keep-empty-dirs --no-resave-data SingleCellSignalR StartedAt: 2025-10-02 22:44:31 -0400 (Thu, 02 Oct 2025) EndedAt: 2025-10-02 22:47:25 -0400 (Thu, 02 Oct 2025) EllapsedTime: 173.7 seconds RetCode: 0 Status: OK PackageFile: SingleCellSignalR_1.20.0.tar.gz PackageFileSize: 4.486 MiB