Package: SingleCellSignalR Version: 1.20.0 Command: /home/biocbuild/R/R/bin/R CMD build --keep-empty-dirs --no-resave-data SingleCellSignalR StartedAt: 2025-09-26 06:03:55 -0000 (Fri, 26 Sep 2025) EndedAt: 2025-09-26 06:05:48 -0000 (Fri, 26 Sep 2025) EllapsedTime: 113.1 seconds RetCode: 0 Status: OK PackageFile: SingleCellSignalR_1.20.0.tar.gz PackageFileSize: 4.358 MiB