Package: SingleCellExperiment Version: 1.32.0 Command: /home/biocbuild/bbs-3.22-bioc/R/bin/R CMD build --keep-empty-dirs --no-resave-data --md5 SingleCellExperiment StartedAt: 2025-11-11 20:16:21 -0500 (Tue, 11 Nov 2025) EndedAt: 2025-11-11 20:17:32 -0500 (Tue, 11 Nov 2025) EllapsedTime: 71.1 seconds RetCode: 0 Status: OK PackageFile: SingleCellExperiment_1.32.0.tar.gz PackageFileSize: 964.8 KiB