Package: SingleCellExperiment Version: 1.30.1 Command: /home/biocbuild/R/R/bin/R CMD build --keep-empty-dirs --no-resave-data SingleCellExperiment StartedAt: 2025-10-07 04:42:05 -0000 (Tue, 07 Oct 2025) EndedAt: 2025-10-07 04:44:06 -0000 (Tue, 07 Oct 2025) EllapsedTime: 121.0 seconds RetCode: 0 Status: OK PackageFile: SingleCellExperiment_1.30.1.tar.gz PackageFileSize: 1.131 MiB