Package: SingleCellAlleleExperiment Version: 1.6.0 Command: /home/biocbuild/R/R/bin/R CMD INSTALL SingleCellAlleleExperiment StartedAt: 2025-11-24 21:25:42 -0000 (Mon, 24 Nov 2025) EndedAt: 2025-11-24 21:26:14 -0000 (Mon, 24 Nov 2025) EllapsedTime: 32.4 seconds RetCode: 0 Status: OK