Package: SingleCellAlleleExperiment Version: 1.6.0 Command: /home/biocbuild/R/R/bin/R CMD build --keep-empty-dirs --no-resave-data SingleCellAlleleExperiment StartedAt: 2025-11-25 05:10:12 -0000 (Tue, 25 Nov 2025) EndedAt: 2025-11-25 05:18:04 -0000 (Tue, 25 Nov 2025) EllapsedTime: 472.3 seconds RetCode: 0 Status: OK PackageFile: SingleCellAlleleExperiment_1.6.0.tar.gz PackageFileSize: 1.876 MiB