Package: SingleCellAlleleExperiment Version: 1.6.0 Command: /home/biocbuild/bbs-3.22-bioc/R/bin/R CMD check --install=check:SingleCellAlleleExperiment.install-out.txt --library=/home/biocbuild/bbs-3.22-bioc/R/site-library --timings SingleCellAlleleExperiment_1.6.0.tar.gz StartedAt: 2025-11-12 04:13:48 -0500 (Wed, 12 Nov 2025) EndedAt: 2025-11-12 04:29:30 -0500 (Wed, 12 Nov 2025) EllapsedTime: 941.8 seconds RetCode: 0 Status: OK CheckDir: SingleCellAlleleExperiment.Rcheck Warnings: 0