Package: SingleCellAlleleExperiment Version: 1.4.1 Command: /home/biocbuild/R/R/bin/R CMD INSTALL SingleCellAlleleExperiment StartedAt: 2025-09-29 20:32:40 -0000 (Mon, 29 Sep 2025) EndedAt: 2025-09-29 20:33:14 -0000 (Mon, 29 Sep 2025) EllapsedTime: 34.3 seconds RetCode: 0 Status: OK