Package: SingleCellAlleleExperiment Version: 1.4.0 Command: rm -rf SingleCellAlleleExperiment.buildbin-libdir && mkdir SingleCellAlleleExperiment.buildbin-libdir && /Users/biocbuild/BBS/utils/build-universal.sh SingleCellAlleleExperiment_1.4.0.tar.gz /Library/Frameworks/R.framework/Resources/bin/R SingleCellAlleleExperiment.buildbin-libdir StartedAt: 2025-04-21 22:52:49 -0400 (Mon, 21 Apr 2025) EndedAt: 2025-04-21 22:53:01 -0400 (Mon, 21 Apr 2025) EllapsedTime: 12.2 seconds RetCode: 0 Status: OK PackageFile: SingleCellAlleleExperiment_1.4.0.tgz PackageFileSize: 2.152 MiB