Package: SimFFPE Version: 1.22.0 Command: /home/biocbuild/bbs-3.22-bioc/R/bin/R CMD check --install=check:SimFFPE.install-out.txt --library=/home/biocbuild/bbs-3.22-bioc/R/site-library --timings SimFFPE_1.22.0.tar.gz StartedAt: 2025-11-12 04:12:01 -0500 (Wed, 12 Nov 2025) EndedAt: 2025-11-12 04:17:29 -0500 (Wed, 12 Nov 2025) EllapsedTime: 328.3 seconds RetCode: 0 Status: OK CheckDir: SimFFPE.Rcheck Warnings: 0