Package: SimFFPE Version: 1.22.0 Command: /home/biocbuild/bbs-3.22-bioc/R/bin/R CMD build --keep-empty-dirs --no-resave-data --md5 SimFFPE StartedAt: 2025-11-11 20:14:40 -0500 (Tue, 11 Nov 2025) EndedAt: 2025-11-11 20:16:18 -0500 (Tue, 11 Nov 2025) EllapsedTime: 98.0 seconds RetCode: 0 Status: OK PackageFile: SimFFPE_1.22.0.tar.gz PackageFileSize: 750.8 KiB