Package: SimBu Version: 1.12.0 Command: /home/biocbuild/bbs-3.22-bioc/R/bin/R CMD INSTALL SimBu StartedAt: 2025-11-11 15:21:30 -0500 (Tue, 11 Nov 2025) EndedAt: 2025-11-11 15:21:35 -0500 (Tue, 11 Nov 2025) EllapsedTime: 5.1 seconds RetCode: 0 Status: OK