Package: SimBu Version: 1.12.0 Command: /home/biocbuild/bbs-3.22-bioc/R/bin/R CMD check --install=check:SimBu.install-out.txt --library=/home/biocbuild/bbs-3.22-bioc/R/site-library --timings SimBu_1.12.0.tar.gz StartedAt: 2025-11-14 04:13:00 -0500 (Fri, 14 Nov 2025) EndedAt: 2025-11-14 04:16:01 -0500 (Fri, 14 Nov 2025) EllapsedTime: 180.2 seconds RetCode: 0 Status: OK CheckDir: SimBu.Rcheck Warnings: 0