Package: SimBu Version: 1.10.0 Command: /home/biocbuild/bbs-3.21-bioc/R/bin/R CMD build --keep-empty-dirs --no-resave-data SimBu StartedAt: 2025-10-15 19:55:36 -0400 (Wed, 15 Oct 2025) EndedAt: 2025-10-15 19:56:18 -0400 (Wed, 15 Oct 2025) EllapsedTime: 42.0 seconds RetCode: 0 Status: OK PackageFile: SimBu_1.10.0.tar.gz PackageFileSize: 216.3 KiB