Package: SimBu Version: 1.12.0 Command: /Library/Frameworks/R.framework/Resources/bin/R CMD INSTALL SimBu StartedAt: 2025-11-03 15:23:48 -0500 (Mon, 03 Nov 2025) EndedAt: 2025-11-03 15:23:59 -0500 (Mon, 03 Nov 2025) EllapsedTime: 10.4 seconds RetCode: 0 Status: OK