Package: SimBu Version: 1.12.0 Command: /Library/Frameworks/R.framework/Resources/bin/R CMD build --keep-empty-dirs --no-resave-data SimBu StartedAt: 2025-11-03 18:48:51 -0500 (Mon, 03 Nov 2025) EndedAt: 2025-11-03 18:49:46 -0500 (Mon, 03 Nov 2025) EllapsedTime: 54.7 seconds RetCode: 0 Status: OK PackageFile: SimBu_1.12.0.tar.gz PackageFileSize: 221.5 KiB