Package: SimBu Version: 1.12.0 Command: rm -rf SimBu.buildbin-libdir && mkdir SimBu.buildbin-libdir && /Users/biocbuild/BBS/utils/build-universal.sh SimBu_1.12.0.tar.gz /Library/Frameworks/R.framework/Resources/bin/R SimBu.buildbin-libdir StartedAt: 2025-11-04 02:04:49 -0500 (Tue, 04 Nov 2025) EndedAt: 2025-11-04 02:05:07 -0500 (Tue, 04 Nov 2025) EllapsedTime: 17.3 seconds RetCode: 0 Status: OK PackageFile: SimBu_1.12.0.tgz PackageFileSize: 324.9 KiB