Package: SimBu Version: 1.10.0 Command: /home/biocbuild/R/R/bin/R CMD INSTALL SimBu StartedAt: 2025-10-02 20:30:01 -0000 (Thu, 02 Oct 2025) EndedAt: 2025-10-02 20:30:09 -0000 (Thu, 02 Oct 2025) EllapsedTime: 7.1 seconds RetCode: 0 Status: OK