Package: SimBu Version: 1.10.0 Command: /home/biocbuild/R/R/bin/R CMD build --keep-empty-dirs --no-resave-data SimBu StartedAt: 2025-10-03 04:40:31 -0000 (Fri, 03 Oct 2025) EndedAt: 2025-10-03 04:41:27 -0000 (Fri, 03 Oct 2025) EllapsedTime: 56.0 seconds RetCode: 0 Status: OK PackageFile: SimBu_1.10.0.tar.gz PackageFileSize: 203.9 KiB