Package: SimBu Version: 1.10.0 Command: rm -rf SimBu.buildbin-libdir && mkdir SimBu.buildbin-libdir && /Users/biocbuild/BBS/utils/build-universal.sh SimBu_1.10.0.tar.gz /Library/Frameworks/R.framework/Resources/bin/R SimBu.buildbin-libdir StartedAt: 2025-04-21 22:52:45 -0400 (Mon, 21 Apr 2025) EndedAt: 2025-04-21 22:52:49 -0400 (Mon, 21 Apr 2025) EllapsedTime: 4.1 seconds RetCode: 0 Status: OK PackageFile: SimBu_1.10.0.tgz PackageFileSize: 326.1 KiB