Package: SimBu Version: 1.10.0 Command: /Library/Frameworks/R.framework/Resources/bin/R CMD INSTALL SimBu StartedAt: 2025-10-13 16:05:02 -0400 (Mon, 13 Oct 2025) EndedAt: 2025-10-13 16:05:10 -0400 (Mon, 13 Oct 2025) EllapsedTime: 8.1 seconds RetCode: 0 Status: OK