Package: SigFuge Version: 1.48.0 Command: /home/biocbuild/bbs-3.22-bioc/R/bin/R CMD build --keep-empty-dirs --no-resave-data --md5 SigFuge StartedAt: 2025-11-20 20:55:26 -0500 (Thu, 20 Nov 2025) EndedAt: 2025-11-20 20:56:05 -0500 (Thu, 20 Nov 2025) EllapsedTime: 39.0 seconds RetCode: 1 Status: ERROR PackageFile: None PackageFileSize: NA