Package: SigCheck Version: 2.42.0 Command: /home/biocbuild/bbs-3.22-bioc/R/bin/R CMD INSTALL SigCheck StartedAt: 2025-11-11 15:33:21 -0500 (Tue, 11 Nov 2025) EndedAt: 2025-11-11 15:33:50 -0500 (Tue, 11 Nov 2025) EllapsedTime: 28.9 seconds RetCode: 0 Status: OK