Package: SigCheck Version: 2.42.0 Command: /home/biocbuild/bbs-3.22-bioc/R/bin/R CMD build --keep-empty-dirs --no-resave-data --md5 SigCheck StartedAt: 2025-11-11 20:13:30 -0500 (Tue, 11 Nov 2025) EndedAt: 2025-11-11 20:14:31 -0500 (Tue, 11 Nov 2025) EllapsedTime: 61.1 seconds RetCode: 0 Status: OK PackageFile: SigCheck_2.42.0.tar.gz PackageFileSize: 370.4 KiB