Package: SigCheck Version: 2.40.0 Command: /home/biocbuild/bbs-3.21-bioc/R/bin/R CMD INSTALL SigCheck StartedAt: 2025-10-15 15:28:10 -0400 (Wed, 15 Oct 2025) EndedAt: 2025-10-15 15:28:40 -0400 (Wed, 15 Oct 2025) EllapsedTime: 30.0 seconds RetCode: 0 Status: OK