Package: SigCheck Version: 2.40.0 Command: /home/biocbuild/bbs-3.21-bioc/R/bin/R CMD build --keep-empty-dirs --no-resave-data SigCheck StartedAt: 2025-10-15 19:54:37 -0400 (Wed, 15 Oct 2025) EndedAt: 2025-10-15 19:55:36 -0400 (Wed, 15 Oct 2025) EllapsedTime: 59.1 seconds RetCode: 0 Status: OK PackageFile: SigCheck_2.40.0.tar.gz PackageFileSize: 369.1 KiB