Package: SigCheck Version: 2.40.0 Command: rm -rf SigCheck.buildbin-libdir && mkdir SigCheck.buildbin-libdir && /Users/biocbuild/BBS/utils/build-universal.sh SigCheck_2.40.0.tar.gz /Library/Frameworks/R.framework/Resources/bin/R SigCheck.buildbin-libdir StartedAt: 2025-04-22 01:09:19 -0400 (Tue, 22 Apr 2025) EndedAt: 2025-04-22 01:10:04 -0400 (Tue, 22 Apr 2025) EllapsedTime: 45.0 seconds RetCode: 0 Status: OK PackageFile: SigCheck_2.40.0.tgz PackageFileSize: 731.1 KiB