Package: SigCheck Version: 2.40.0 Command: /Library/Frameworks/R.framework/Resources/bin/R CMD INSTALL SigCheck StartedAt: 2025-10-13 16:19:03 -0400 (Mon, 13 Oct 2025) EndedAt: 2025-10-13 16:19:39 -0400 (Mon, 13 Oct 2025) EllapsedTime: 35.6 seconds RetCode: 0 Status: OK