Package: SigCheck Version: 2.40.0 Command: rm -rf SigCheck.buildbin-libdir && mkdir SigCheck.buildbin-libdir && /Users/biocbuild/BBS/utils/build-universal.sh SigCheck_2.40.0.tar.gz /Library/Frameworks/R.framework/Resources/bin/R SigCheck.buildbin-libdir StartedAt: 2025-10-15 20:31:45 -0400 (Wed, 15 Oct 2025) EndedAt: 2025-10-15 20:32:24 -0400 (Wed, 15 Oct 2025) EllapsedTime: 39.6 seconds RetCode: 0 Status: OK PackageFile: SigCheck_2.40.0.tgz PackageFileSize: 731.2 KiB