Package: SigCheck Version: 2.40.0 Maintainer: Rory Stark MaintainerEmail: bioconductor at starkhome.com git_url: https://git.bioconductor.org/packages/SigCheck git_branch: RELEASE_3_21 git_last_commit: 3fd401c git_last_commit_date: 2025-04-15 10:35:34 -0400 (Tue, 15 Apr 2025)