Package: SiPSiC Version: 1.10.0 Command: /home/biocbuild/bbs-3.22-bioc/R/bin/R CMD INSTALL SiPSiC StartedAt: 2025-11-11 15:25:08 -0500 (Tue, 11 Nov 2025) EndedAt: 2025-11-11 15:25:29 -0500 (Tue, 11 Nov 2025) EllapsedTime: 21.8 seconds RetCode: 0 Status: OK