Package: ShortRead Version: 1.68.0 Command: /home/biocbuild/bbs-3.22-bioc/R/bin/R CMD build --keep-empty-dirs --no-resave-data --md5 ShortRead StartedAt: 2025-11-11 20:13:06 -0500 (Tue, 11 Nov 2025) EndedAt: 2025-11-11 20:14:13 -0500 (Tue, 11 Nov 2025) EllapsedTime: 67.1 seconds RetCode: 0 Status: OK PackageFile: ShortRead_1.68.0.tar.gz PackageFileSize: 5.074 MiB