Package: ShortRead Version: 1.68.0 Command: /Library/Frameworks/R.framework/Resources/bin/R CMD INSTALL ShortRead StartedAt: 2025-11-03 15:26:43 -0500 (Mon, 03 Nov 2025) EndedAt: 2025-11-03 15:27:03 -0500 (Mon, 03 Nov 2025) EllapsedTime: 20.8 seconds RetCode: 0 Status: OK