Package: ShortRead Version: 1.68.0 Command: /Library/Frameworks/R.framework/Resources/bin/R CMD build --keep-empty-dirs --no-resave-data ShortRead StartedAt: 2025-11-02 17:44:26 -0500 (Sun, 02 Nov 2025) EndedAt: 2025-11-02 17:44:57 -0500 (Sun, 02 Nov 2025) EllapsedTime: 30.4 seconds RetCode: 0 Status: OK PackageFile: ShortRead_1.68.0.tar.gz PackageFileSize: 5.06 MiB