Package: SharedObject Version: 1.22.0 Command: /home/biocbuild/bbs-3.21-bioc/R/bin/R CMD check --install=check:SharedObject.install-out.txt --library=/home/biocbuild/bbs-3.21-bioc/R/site-library --timings SharedObject_1.22.0.tar.gz StartedAt: 2025-10-13 03:40:56 -0400 (Mon, 13 Oct 2025) EndedAt: 2025-10-13 03:42:19 -0400 (Mon, 13 Oct 2025) EllapsedTime: 83.1 seconds RetCode: 0 Status: WARNINGS CheckDir: SharedObject.Rcheck Warnings: 2