Package: SharedObject Version: 1.24.0 Command: /Library/Frameworks/R.framework/Resources/bin/R CMD check --install=check:SharedObject.install-out.txt --library=/Library/Frameworks/R.framework/Resources/library --no-vignettes --timings SharedObject_1.24.0.tar.gz StartedAt: 2025-11-01 00:13:20 -0400 (Sat, 01 Nov 2025) EndedAt: 2025-11-01 00:15:01 -0400 (Sat, 01 Nov 2025) EllapsedTime: 101.3 seconds RetCode: 0 Status: WARNINGS CheckDir: SharedObject.Rcheck Warnings: 2