Package: SharedObject Version: 1.22.0 Command: /home/biocbuild/R/R/bin/R CMD INSTALL SharedObject StartedAt: 2025-09-25 20:24:06 -0000 (Thu, 25 Sep 2025) EndedAt: 2025-09-25 20:24:48 -0000 (Thu, 25 Sep 2025) EllapsedTime: 42.9 seconds RetCode: 0 Status: OK