Package: SharedObject Version: 1.22.0 Command: /home/biocbuild/R/R/bin/R CMD check --install=check:SharedObject.install-out.txt --library=/home/biocbuild/R/R/site-library --no-vignettes --timings SharedObject_1.22.0.tar.gz StartedAt: 2025-10-03 14:20:53 -0000 (Fri, 03 Oct 2025) EndedAt: 2025-10-03 14:22:50 -0000 (Fri, 03 Oct 2025) EllapsedTime: 117.2 seconds RetCode: 0 Status: WARNINGS CheckDir: SharedObject.Rcheck Warnings: 2